BEGIN:VCALENDAR
VERSION:2.0
PRODID:Events Booking
BEGIN:VEVENT
UID:69eb9e7824787
SUMMARY:Equine Level One
DESCRIPTION:
LOCATION:200 Westboro Rd\, North Grafton\, MA 01536
DTSTART:20270611T040000Z
DTEND:20270613T040000Z
DTSTAMP:20260421T220108Z
ORGANIZER;CN=Evidence Based Veterinary Acupuncture:MAILTO:deb@evidencebased
 veterinaryacupuncture.com
GEO:42.24631;-71.67723
X-APPLE-STRUCTURED-LOCATION;VALUE=URI;X-ADDRESS=200 Westboro Rd\, North Gra
 fton\, MA 01536;X-APPLE-RADIUS=72;X-TITLE=Tufts School Veterinary Medicine
 :42.24631;-71.67723
END:VEVENT
END:VCALENDAR