BEGIN:VCALENDAR
VERSION:2.0
PRODID:Events Booking
BEGIN:VEVENT
UID:69eb9cc875dae
SUMMARY:Equine Level Two
DESCRIPTION:
LOCATION:65-1692 Kohala Mountain Road Kamuela\, HI 96743
DTSTART:20270416T040000Z
DTEND:20270418T040000Z
DTSTAMP:20260421T214430Z
ORGANIZER;CN=Evidence Based Veterinary Acupuncture:MAILTO:deb@evidencebased
 veterinaryacupuncture.com
GEO:20.0256;-155.6725
X-APPLE-STRUCTURED-LOCATION;VALUE=URI;X-ADDRESS=65-1692 Kohala Mountain Roa
 d Kamuela\, HI 96743;X-APPLE-RADIUS=72;X-TITLE=Big Island of Hawaii:20.025
 6;-155.6725
END:VEVENT
END:VCALENDAR